BEGIN:VCALENDAR
VERSION:2.0
PRODID:icalendar-ruby
CALSCALE:GREGORIAN
METHOD:PUBLISH
BEGIN:VEVENT
DTSTAMP:20260419T174737Z
UID:5-223323@spartanburgchurch.org
DTSTART:20261025T141500Z
DTEND:20261025T151500Z
CLASS:PUBLIC
CREATED:20260419T122159
DESCRIPTION:Sunday Worship
LAST-MODIFIED:20260419T122159
LOCATION:
SUMMARY:Sunday Worship
URL;VALUE=URI:https://spartanburgchurch.org/events/sunday-worship/2026-10-2
 5
END:VEVENT
END:VCALENDAR
