BEGIN:VCALENDAR
VERSION:2.0
PRODID:icalendar-ruby
CALSCALE:GREGORIAN
METHOD:PUBLISH
BEGIN:VEVENT
DTSTAMP:20260419T144534Z
UID:5-223178@spartanburgchurch.org
DTSTART:20261011T141500Z
DTEND:20261011T151500Z
CLASS:PUBLIC
CREATED:20260419T083958
DESCRIPTION:Sunday Worship
LAST-MODIFIED:20260419T083958
LOCATION:
SUMMARY:Sunday Worship
URL;VALUE=URI:https://spartanburgchurch.org/events/sunday-worship/2026-10-1
 1
END:VEVENT
END:VCALENDAR
